BEGIN:VCALENDAR
CALSCALE:GREGORIAN
VERSION:2.0
METHOD:PUBLISH 
X-WR-CALNAME:
BEGIN:VEVENT
DTSTART;TZID=Europe/Paris:20260605T090000
DTEND;TZID=Europe/Paris:20260605T100000
SUMMARY:Visite libre découverte du jardin
CATEGORIE:Expositions, Visites et Découvertes
GEO:49.07727500000000;1.25098200000000
LOCATION:Jardin "Fleurs, plumes et poils"\, 2 Le Mesnil Anseaume\, 27930 Saint-Vigor\, France
URL:https://www.fest.fr/e/2403444
UID:2403444-1@fest.fr
END:VEVENT
BEGIN:VEVENT
DTSTART;TZID=Europe/Paris:20260606T090000
DTEND;TZID=Europe/Paris:20260606T100000
SUMMARY:Visite libre découverte du jardin
CATEGORIE:Expositions, Visites et Découvertes
GEO:49.07727500000000;1.25098200000000
LOCATION:Jardin "Fleurs, plumes et poils"\, 2 Le Mesnil Anseaume\, 27930 Saint-Vigor\, France
URL:https://www.fest.fr/e/2403444
UID:2403444-2@fest.fr
END:VEVENT
BEGIN:VEVENT
DTSTART;TZID=Europe/Paris:20260607T090000
DTEND;TZID=Europe/Paris:20260607T100000
SUMMARY:Visite libre découverte du jardin
CATEGORIE:Expositions, Visites et Découvertes
GEO:49.07727500000000;1.25098200000000
LOCATION:Jardin "Fleurs, plumes et poils"\, 2 Le Mesnil Anseaume\, 27930 Saint-Vigor\, France
URL:https://www.fest.fr/e/2403444
UID:2403444-3@fest.fr
END:VEVENT
END:VCALENDAR
