BEGIN:VCALENDAR
CALSCALE:GREGORIAN
VERSION:2.0
METHOD:PUBLISH 
X-WR-CALNAME:
BEGIN:VEVENT
DTSTART;TZID=Europe/Paris:20260410T203000
DTEND;TZID=Europe/Paris:20260410T213000
SUMMARY:Blåhaj, chronique d’une mère agitée
CATEGORIE:Spectacles et Théâtre
GEO:47.29970500000000;-1.39595600000000
LOCATION:Salle culturelle Le Vallon\, 1 Avenue de Bretagne\, 44470 Thouaré-sur-Loire\, France
URL:https://www.fest.fr/e/2403404
UID:2403404-1@fest.fr
END:VEVENT
END:VCALENDAR
