BEGIN:VCALENDAR
CALSCALE:GREGORIAN
VERSION:2.0
METHOD:PUBLISH 
X-WR-CALNAME:
BEGIN:VEVENT
DTSTART;TZID=Europe/Paris:20260421T100000
DTEND;TZID=Europe/Paris:20260421T110000
SUMMARY:Journée de la parentalité
CATEGORIE:Fêtes et Animations
GEO:44.91060600000000;-0.63292500000000
LOCATION:Médiathèque Assia Djebar\, 4 rue docteur Castéra\, 33290 Blanquefort\, France
URL:https://www.fest.fr/e/2403132
UID:2403132-1@fest.fr
END:VEVENT
BEGIN:VEVENT
DTSTART;TZID=Europe/Paris:20260422T100000
DTEND;TZID=Europe/Paris:20260422T110000
SUMMARY:Journée de la parentalité
CATEGORIE:Fêtes et Animations
GEO:44.91060600000000;-0.63292500000000
LOCATION:Médiathèque Assia Djebar\, 4 rue docteur Castéra\, 33290 Blanquefort\, France
URL:https://www.fest.fr/e/2403132
UID:2403132-2@fest.fr
END:VEVENT
BEGIN:VEVENT
DTSTART;TZID=Europe/Paris:20260423T100000
DTEND;TZID=Europe/Paris:20260423T110000
SUMMARY:Journée de la parentalité
CATEGORIE:Fêtes et Animations
GEO:44.91060600000000;-0.63292500000000
LOCATION:Médiathèque Assia Djebar\, 4 rue docteur Castéra\, 33290 Blanquefort\, France
URL:https://www.fest.fr/e/2403132
UID:2403132-3@fest.fr
END:VEVENT
BEGIN:VEVENT
DTSTART;TZID=Europe/Paris:20260424T100000
DTEND;TZID=Europe/Paris:20260424T110000
SUMMARY:Journée de la parentalité
CATEGORIE:Fêtes et Animations
GEO:44.91060600000000;-0.63292500000000
LOCATION:Médiathèque Assia Djebar\, 4 rue docteur Castéra\, 33290 Blanquefort\, France
URL:https://www.fest.fr/e/2403132
UID:2403132-4@fest.fr
END:VEVENT
BEGIN:VEVENT
DTSTART;TZID=Europe/Paris:20260425T100000
DTEND;TZID=Europe/Paris:20260425T110000
SUMMARY:Journée de la parentalité
CATEGORIE:Fêtes et Animations
GEO:44.91060600000000;-0.63292500000000
LOCATION:Médiathèque Assia Djebar\, 4 rue docteur Castéra\, 33290 Blanquefort\, France
URL:https://www.fest.fr/e/2403132
UID:2403132-5@fest.fr
END:VEVENT
BEGIN:VEVENT
DTSTART;TZID=Europe/Paris:20260427T100000
DTEND;TZID=Europe/Paris:20260427T110000
SUMMARY:Journée de la parentalité
CATEGORIE:Fêtes et Animations
GEO:44.91060600000000;-0.63292500000000
LOCATION:Médiathèque Assia Djebar\, 4 rue docteur Castéra\, 33290 Blanquefort\, France
URL:https://www.fest.fr/e/2403132
UID:2403132-6@fest.fr
END:VEVENT
BEGIN:VEVENT
DTSTART;TZID=Europe/Paris:20260428T100000
DTEND;TZID=Europe/Paris:20260428T110000
SUMMARY:Journée de la parentalité
CATEGORIE:Fêtes et Animations
GEO:44.91060600000000;-0.63292500000000
LOCATION:Médiathèque Assia Djebar\, 4 rue docteur Castéra\, 33290 Blanquefort\, France
URL:https://www.fest.fr/e/2403132
UID:2403132-7@fest.fr
END:VEVENT
BEGIN:VEVENT
DTSTART;TZID=Europe/Paris:20260429T100000
DTEND;TZID=Europe/Paris:20260429T110000
SUMMARY:Journée de la parentalité
CATEGORIE:Fêtes et Animations
GEO:44.91060600000000;-0.63292500000000
LOCATION:Médiathèque Assia Djebar\, 4 rue docteur Castéra\, 33290 Blanquefort\, France
URL:https://www.fest.fr/e/2403132
UID:2403132-8@fest.fr
END:VEVENT
BEGIN:VEVENT
DTSTART;TZID=Europe/Paris:20260430T100000
DTEND;TZID=Europe/Paris:20260430T110000
SUMMARY:Journée de la parentalité
CATEGORIE:Fêtes et Animations
GEO:44.91060600000000;-0.63292500000000
LOCATION:Médiathèque Assia Djebar\, 4 rue docteur Castéra\, 33290 Blanquefort\, France
URL:https://www.fest.fr/e/2403132
UID:2403132-9@fest.fr
END:VEVENT
END:VCALENDAR
