BEGIN:VCALENDAR
CALSCALE:GREGORIAN
VERSION:2.0
METHOD:PUBLISH 
X-WR-CALNAME:
BEGIN:VEVENT
DTSTART;TZID=Europe/Paris:20260606T200000
DTEND;TZID=Europe/Paris:20260606T210000
SUMMARY:Conte musical et concert du Belledonne Trad Orchestra
CATEGORIE:Concerts et Musique
GEO:44.82846635458080;5.62441796064377
LOCATION:Cinéma Jean Giono\, Rue Jean Giono\, 38930 Clelles\, France
URL:https://www.fest.fr/e/2403099
UID:2403099-1@fest.fr
END:VEVENT
END:VCALENDAR
