BEGIN:VCALENDAR
CALSCALE:GREGORIAN
VERSION:2.0
METHOD:PUBLISH 
X-WR-CALNAME:
BEGIN:VEVENT
DTSTART;TZID=Europe/Paris:20260415T200000
DTEND;TZID=Europe/Paris:20260415T210000
SUMMARY:Beau Boucan : Release Party Coconut !
CATEGORIE:Concerts et Musique
GEO:47.20016300000000;-1.57391200000000
LOCATION:Le Ferrailleur\, 21 quai des Antilles\, 44200 Nantes\, France
URL:https://www.fest.fr/e/2402851
UID:2402851-1@fest.fr
END:VEVENT
END:VCALENDAR
