BEGIN:VCALENDAR
CALSCALE:GREGORIAN
VERSION:2.0
METHOD:PUBLISH 
X-WR-CALNAME:
BEGIN:VEVENT
DTSTART;TZID=Europe/Paris:20260410T190000
DTEND;TZID=Europe/Paris:20260410T200000
SUMMARY:Soirée jeux
CATEGORIE:Jeux et Concours
GEO:48.10820600000000;-1.64406000000000
LOCATION:Salle Polyvalente Miriam Makeba\, 9 rue Rose Valland –\, 35000 Rennes\, France
URL:https://www.fest.fr/e/2402821
UID:2402821-1@fest.fr
END:VEVENT
END:VCALENDAR
