BEGIN:VCALENDAR
CALSCALE:GREGORIAN
VERSION:2.0
METHOD:PUBLISH 
X-WR-CALNAME:
BEGIN:VEVENT
DTSTART;TZID=Europe/Paris:20260428T200000
DTEND;TZID=Europe/Paris:20260428T210000
SUMMARY:AVANT-PREMIÈRE SURPRISE
CATEGORIE:Spectacles et Théâtre
GEO:48.10792500000000;-1.67253800000000
LOCATION:Cinéma du TNB\, 1 rue saint Hélier\, 35000 Rennes\, France
URL:https://www.fest.fr/e/2402767
UID:2402767-1@fest.fr
END:VEVENT
END:VCALENDAR
