BEGIN:VCALENDAR
CALSCALE:GREGORIAN
VERSION:2.0
METHOD:PUBLISH 
X-WR-CALNAME:
BEGIN:VEVENT
DTSTART;TZID=Europe/Paris:20260612T203000
DTEND;TZID=Europe/Paris:20260612T213000
SUMMARY:Arpegia Vox - Chœur de femme
CATEGORIE:Concerts et Musique
GEO:43.60757900000000;1.44339500000000
LOCATION:Chapelle des Carmélites\, 1 Rue du Périgord\, 31000 Toulouse\, France
URL:https://www.fest.fr/e/2402415
UID:2402415-1@fest.fr
END:VEVENT
END:VCALENDAR
