BEGIN:VCALENDAR
CALSCALE:GREGORIAN
VERSION:2.0
METHOD:PUBLISH 
X-WR-CALNAME:
BEGIN:VEVENT
DTSTART;TZID=Europe/Paris:20260410T100000
DTEND;TZID=Europe/Paris:20260410T110000
SUMMARY:Cœurs à l’ouvrage
CATEGORIE:Expositions, Visites et Découvertes
GEO:43.59689800000000;1.44686900000000
LOCATION:Musée des Arts Précieux Paul-Dupuy\, 13 rue de la Pleau\, 31000 Toulouse\, France
URL:https://www.fest.fr/e/2402354
UID:2402354-1@fest.fr
END:VEVENT
BEGIN:VEVENT
DTSTART;TZID=Europe/Paris:20260411T100000
DTEND;TZID=Europe/Paris:20260411T110000
SUMMARY:Cœurs à l’ouvrage
CATEGORIE:Expositions, Visites et Découvertes
GEO:43.59689800000000;1.44686900000000
LOCATION:Musée des Arts Précieux Paul-Dupuy\, 13 rue de la Pleau\, 31000 Toulouse\, France
URL:https://www.fest.fr/e/2402354
UID:2402354-2@fest.fr
END:VEVENT
BEGIN:VEVENT
DTSTART;TZID=Europe/Paris:20260412T100000
DTEND;TZID=Europe/Paris:20260412T110000
SUMMARY:Cœurs à l’ouvrage
CATEGORIE:Expositions, Visites et Découvertes
GEO:43.59689800000000;1.44686900000000
LOCATION:Musée des Arts Précieux Paul-Dupuy\, 13 rue de la Pleau\, 31000 Toulouse\, France
URL:https://www.fest.fr/e/2402354
UID:2402354-3@fest.fr
END:VEVENT
END:VCALENDAR
