BEGIN:VCALENDAR
CALSCALE:GREGORIAN
VERSION:2.0
METHOD:PUBLISH 
X-WR-CALNAME:
BEGIN:VEVENT
DTSTART;TZID=Europe/Paris:20260428T083000
DTEND;TZID=Europe/Paris:20260428T093000
SUMMARY:Je Choisis la French Tech X Orange : Future4Care
CATEGORIE:Conférences, Forums et Débats
GEO:45.75452200000000;4.86359500000000
LOCATION:Campus Orange Lumière\, 131 avenue felix faure  lyon\, 69003 Lyon 3e\, France
URL:https://www.fest.fr/e/2402252
UID:2402252-1@fest.fr
END:VEVENT
END:VCALENDAR
