BEGIN:VCALENDAR
CALSCALE:GREGORIAN
VERSION:2.0
METHOD:PUBLISH 
X-WR-CALNAME:
BEGIN:VEVENT
DTSTART;TZID=Europe/Paris:20270410T200000
DTEND;TZID=Europe/Paris:20270410T210000
SUMMARY:Nino Arial - Pas Comme Eux - Tournée
CATEGORIE:Spectacles et théâtre
GEO:48.29003320056500;4.07234353712200
LOCATION:Le Cube – Troyes\, Boulevard Charles Delestraint\, 10000 Troyes\, France
URL:https://www.fest.fr/e/2402070
UID:2402070-1@fest.fr
END:VEVENT
END:VCALENDAR
