BEGIN:VCALENDAR
CALSCALE:GREGORIAN
VERSION:2.0
METHOD:PUBLISH 
X-WR-CALNAME:
BEGIN:VEVENT
DTSTART;TZID=Europe/Paris:20260414T140000
DTEND;TZID=Europe/Paris:20260414T150000
SUMMARY:Atelier enfants-parents : la saison des amours
CATEGORIE:Stages, Ateliers et Initiations
GEO:47.22698600000000;-1.59786300000000
LOCATION:Pôle Sciences Environnement Sequoïa\, 1 Rue Auguste Lepère\, 44100 Nantes\, France
URL:https://www.fest.fr/e/2401478
UID:2401478-1@fest.fr
END:VEVENT
END:VCALENDAR
