BEGIN:VCALENDAR
CALSCALE:GREGORIAN
VERSION:2.0
METHOD:PUBLISH 
X-WR-CALNAME:
BEGIN:VEVENT
DTSTART;TZID=Europe/Paris:20260414T143000
DTEND;TZID=Europe/Paris:20260414T153000
SUMMARY:Fabrication d'un bac potager
CATEGORIE:Stages, Ateliers et Initiations
GEO:44.85609100000000;-0.58501900000000
LOCATION:Maison du jardinier et de la nature en ville\, 174 rue Mandron\, 33000 Bordeaux\, France
URL:https://www.fest.fr/e/2401403
UID:2401403-1@fest.fr
END:VEVENT
END:VCALENDAR
