BEGIN:VCALENDAR
CALSCALE:GREGORIAN
VERSION:2.0
METHOD:PUBLISH 
X-WR-CALNAME:
BEGIN:VEVENT
DTSTART;TZID=Europe/Paris:20260530T153000
DTEND;TZID=Europe/Paris:20260530T163000
SUMMARY:Gravure sur Tetra Pak
CATEGORIE:Stages, Ateliers et Initiations
GEO:47.21097400000000;-1.56208300000000
LOCATION:Médiathèque Jacques Demy\, 24 quai la Fosse\, 44000 Nantes\, France
URL:https://www.fest.fr/e/2401143
UID:2401143-1@fest.fr
END:VEVENT
END:VCALENDAR
