BEGIN:VCALENDAR
CALSCALE:GREGORIAN
VERSION:2.0
METHOD:PUBLISH 
X-WR-CALNAME:
BEGIN:VEVENT
DTSTART;TZID=Europe/Paris:20260704T200000
DTEND;TZID=Europe/Paris:20260704T210000
SUMMARY:La Casa del Papy - Théâtre Laurette, Avignon
CATEGORIE:Spectacles et théâtre
GEO:43.94965639505200;4.80377464105700
LOCATION:THEATRE LAURETTE - GRANDE SALLE\, 16-18 rue Joseph Vernet\, 84000 Avignon\, France
URL:https://www.fest.fr/e/2401113
UID:2401113-1@fest.fr
END:VEVENT
BEGIN:VEVENT
DTSTART;TZID=Europe/Paris:20260705T200000
DTEND;TZID=Europe/Paris:20260705T210000
SUMMARY:La Casa del Papy - Théâtre Laurette, Avignon
CATEGORIE:Spectacles et théâtre
GEO:43.94965639505200;4.80377464105700
LOCATION:THEATRE LAURETTE - GRANDE SALLE\, 16-18 rue Joseph Vernet\, 84000 Avignon\, France
URL:https://www.fest.fr/e/2401113
UID:2401113-2@fest.fr
END:VEVENT
BEGIN:VEVENT
DTSTART;TZID=Europe/Paris:20260706T200000
DTEND;TZID=Europe/Paris:20260706T210000
SUMMARY:La Casa del Papy - Théâtre Laurette, Avignon
CATEGORIE:Spectacles et théâtre
GEO:43.94965639505200;4.80377464105700
LOCATION:THEATRE LAURETTE - GRANDE SALLE\, 16-18 rue Joseph Vernet\, 84000 Avignon\, France
URL:https://www.fest.fr/e/2401113
UID:2401113-3@fest.fr
END:VEVENT
BEGIN:VEVENT
DTSTART;TZID=Europe/Paris:20260707T200000
DTEND;TZID=Europe/Paris:20260707T210000
SUMMARY:La Casa del Papy - Théâtre Laurette, Avignon
CATEGORIE:Spectacles et théâtre
GEO:43.94965639505200;4.80377464105700
LOCATION:THEATRE LAURETTE - GRANDE SALLE\, 16-18 rue Joseph Vernet\, 84000 Avignon\, France
URL:https://www.fest.fr/e/2401113
UID:2401113-4@fest.fr
END:VEVENT
BEGIN:VEVENT
DTSTART;TZID=Europe/Paris:20260708T200000
DTEND;TZID=Europe/Paris:20260708T210000
SUMMARY:La Casa del Papy - Théâtre Laurette, Avignon
CATEGORIE:Spectacles et théâtre
GEO:43.94965639505200;4.80377464105700
LOCATION:THEATRE LAURETTE - GRANDE SALLE\, 16-18 rue Joseph Vernet\, 84000 Avignon\, France
URL:https://www.fest.fr/e/2401113
UID:2401113-5@fest.fr
END:VEVENT
BEGIN:VEVENT
DTSTART;TZID=Europe/Paris:20260710T200000
DTEND;TZID=Europe/Paris:20260710T210000
SUMMARY:La Casa del Papy - Théâtre Laurette, Avignon
CATEGORIE:Spectacles et théâtre
GEO:43.94965639505200;4.80377464105700
LOCATION:THEATRE LAURETTE - GRANDE SALLE\, 16-18 rue Joseph Vernet\, 84000 Avignon\, France
URL:https://www.fest.fr/e/2401113
UID:2401113-6@fest.fr
END:VEVENT
BEGIN:VEVENT
DTSTART;TZID=Europe/Paris:20260711T200000
DTEND;TZID=Europe/Paris:20260711T210000
SUMMARY:La Casa del Papy - Théâtre Laurette, Avignon
CATEGORIE:Spectacles et théâtre
GEO:43.94965639505200;4.80377464105700
LOCATION:THEATRE LAURETTE - GRANDE SALLE\, 16-18 rue Joseph Vernet\, 84000 Avignon\, France
URL:https://www.fest.fr/e/2401113
UID:2401113-7@fest.fr
END:VEVENT
BEGIN:VEVENT
DTSTART;TZID=Europe/Paris:20260712T200000
DTEND;TZID=Europe/Paris:20260712T210000
SUMMARY:La Casa del Papy - Théâtre Laurette, Avignon
CATEGORIE:Spectacles et théâtre
GEO:43.94965639505200;4.80377464105700
LOCATION:THEATRE LAURETTE - GRANDE SALLE\, 16-18 rue Joseph Vernet\, 84000 Avignon\, France
URL:https://www.fest.fr/e/2401113
UID:2401113-8@fest.fr
END:VEVENT
BEGIN:VEVENT
DTSTART;TZID=Europe/Paris:20260713T200000
DTEND;TZID=Europe/Paris:20260713T210000
SUMMARY:La Casa del Papy - Théâtre Laurette, Avignon
CATEGORIE:Spectacles et théâtre
GEO:43.94965639505200;4.80377464105700
LOCATION:THEATRE LAURETTE - GRANDE SALLE\, 16-18 rue Joseph Vernet\, 84000 Avignon\, France
URL:https://www.fest.fr/e/2401113
UID:2401113-9@fest.fr
END:VEVENT
BEGIN:VEVENT
DTSTART;TZID=Europe/Paris:20260714T200000
DTEND;TZID=Europe/Paris:20260714T210000
SUMMARY:La Casa del Papy - Théâtre Laurette, Avignon
CATEGORIE:Spectacles et théâtre
GEO:43.94965639505200;4.80377464105700
LOCATION:THEATRE LAURETTE - GRANDE SALLE\, 16-18 rue Joseph Vernet\, 84000 Avignon\, France
URL:https://www.fest.fr/e/2401113
UID:2401113-10@fest.fr
END:VEVENT
BEGIN:VEVENT
DTSTART;TZID=Europe/Paris:20260715T200000
DTEND;TZID=Europe/Paris:20260715T210000
SUMMARY:La Casa del Papy - Théâtre Laurette, Avignon
CATEGORIE:Spectacles et théâtre
GEO:43.94965639505200;4.80377464105700
LOCATION:THEATRE LAURETTE - GRANDE SALLE\, 16-18 rue Joseph Vernet\, 84000 Avignon\, France
URL:https://www.fest.fr/e/2401113
UID:2401113-11@fest.fr
END:VEVENT
BEGIN:VEVENT
DTSTART;TZID=Europe/Paris:20260717T200000
DTEND;TZID=Europe/Paris:20260717T210000
SUMMARY:La Casa del Papy - Théâtre Laurette, Avignon
CATEGORIE:Spectacles et théâtre
GEO:43.94965639505200;4.80377464105700
LOCATION:THEATRE LAURETTE - GRANDE SALLE\, 16-18 rue Joseph Vernet\, 84000 Avignon\, France
URL:https://www.fest.fr/e/2401113
UID:2401113-12@fest.fr
END:VEVENT
BEGIN:VEVENT
DTSTART;TZID=Europe/Paris:20260718T200000
DTEND;TZID=Europe/Paris:20260718T210000
SUMMARY:La Casa del Papy - Théâtre Laurette, Avignon
CATEGORIE:Spectacles et théâtre
GEO:43.94965639505200;4.80377464105700
LOCATION:THEATRE LAURETTE - GRANDE SALLE\, 16-18 rue Joseph Vernet\, 84000 Avignon\, France
URL:https://www.fest.fr/e/2401113
UID:2401113-13@fest.fr
END:VEVENT
BEGIN:VEVENT
DTSTART;TZID=Europe/Paris:20260719T200000
DTEND;TZID=Europe/Paris:20260719T210000
SUMMARY:La Casa del Papy - Théâtre Laurette, Avignon
CATEGORIE:Spectacles et théâtre
GEO:43.94965639505200;4.80377464105700
LOCATION:THEATRE LAURETTE - GRANDE SALLE\, 16-18 rue Joseph Vernet\, 84000 Avignon\, France
URL:https://www.fest.fr/e/2401113
UID:2401113-14@fest.fr
END:VEVENT
BEGIN:VEVENT
DTSTART;TZID=Europe/Paris:20260720T200000
DTEND;TZID=Europe/Paris:20260720T210000
SUMMARY:La Casa del Papy - Théâtre Laurette, Avignon
CATEGORIE:Spectacles et théâtre
GEO:43.94965639505200;4.80377464105700
LOCATION:THEATRE LAURETTE - GRANDE SALLE\, 16-18 rue Joseph Vernet\, 84000 Avignon\, France
URL:https://www.fest.fr/e/2401113
UID:2401113-15@fest.fr
END:VEVENT
BEGIN:VEVENT
DTSTART;TZID=Europe/Paris:20260721T200000
DTEND;TZID=Europe/Paris:20260721T210000
SUMMARY:La Casa del Papy - Théâtre Laurette, Avignon
CATEGORIE:Spectacles et théâtre
GEO:43.94965639505200;4.80377464105700
LOCATION:THEATRE LAURETTE - GRANDE SALLE\, 16-18 rue Joseph Vernet\, 84000 Avignon\, France
URL:https://www.fest.fr/e/2401113
UID:2401113-16@fest.fr
END:VEVENT
BEGIN:VEVENT
DTSTART;TZID=Europe/Paris:20260722T200000
DTEND;TZID=Europe/Paris:20260722T210000
SUMMARY:La Casa del Papy - Théâtre Laurette, Avignon
CATEGORIE:Spectacles et théâtre
GEO:43.94965639505200;4.80377464105700
LOCATION:THEATRE LAURETTE - GRANDE SALLE\, 16-18 rue Joseph Vernet\, 84000 Avignon\, France
URL:https://www.fest.fr/e/2401113
UID:2401113-17@fest.fr
END:VEVENT
BEGIN:VEVENT
DTSTART;TZID=Europe/Paris:20260724T200000
DTEND;TZID=Europe/Paris:20260724T210000
SUMMARY:La Casa del Papy - Théâtre Laurette, Avignon
CATEGORIE:Spectacles et théâtre
GEO:43.94965639505200;4.80377464105700
LOCATION:THEATRE LAURETTE - GRANDE SALLE\, 16-18 rue Joseph Vernet\, 84000 Avignon\, France
URL:https://www.fest.fr/e/2401113
UID:2401113-18@fest.fr
END:VEVENT
BEGIN:VEVENT
DTSTART;TZID=Europe/Paris:20260725T200000
DTEND;TZID=Europe/Paris:20260725T210000
SUMMARY:La Casa del Papy - Théâtre Laurette, Avignon
CATEGORIE:Spectacles et théâtre
GEO:43.94965639505200;4.80377464105700
LOCATION:THEATRE LAURETTE - GRANDE SALLE\, 16-18 rue Joseph Vernet\, 84000 Avignon\, France
URL:https://www.fest.fr/e/2401113
UID:2401113-19@fest.fr
END:VEVENT
END:VCALENDAR
