BEGIN:VCALENDAR
CALSCALE:GREGORIAN
VERSION:2.0
METHOD:PUBLISH 
X-WR-CALNAME:
BEGIN:VEVENT
DTSTART;TZID=Europe/Paris:20260411T093000
DTEND;TZID=Europe/Paris:20260411T103000
SUMMARY:JPO du CFA Affida sur le campus de Coignières
CATEGORIE:Expositions, Visites et Découvertes
GEO:48.73803000000000;1.92201800000000
LOCATION:25 rue des Osiers\, 25 rue des osiers \, 78310 Coignières\, France
URL:https://www.fest.fr/e/2401078
UID:2401078-1@fest.fr
END:VEVENT
END:VCALENDAR
