BEGIN:VCALENDAR
CALSCALE:GREGORIAN
VERSION:2.0
METHOD:PUBLISH 
X-WR-CALNAME:
BEGIN:VEVENT
DTSTART;TZID=Europe/Paris:20260326T204500
DTEND;TZID=Europe/Paris:20260326T214500
SUMMARY:Les Charbonniers d'Ikaria
CATEGORIE:Spectacles et Théâtre
GEO:49.16990000000000;-0.33919900000000
LOCATION:Cinéma LUX\, 6 avenue Sainte-Thérèse\, 14000 Caen\, France
URL:https://www.fest.fr/e/2401064
UID:2401064-1@fest.fr
END:VEVENT
END:VCALENDAR
