BEGIN:VCALENDAR
CALSCALE:GREGORIAN
VERSION:2.0
METHOD:PUBLISH 
X-WR-CALNAME:
BEGIN:VEVENT
DTSTART;TZID=Europe/Paris:20260424T190000
DTEND;TZID=Europe/Paris:20260424T200000
SUMMARY:Concert au café des sonorines
CATEGORIE:Concerts et Musique
GEO:48.78090100000000;-0.38120700000000
LOCATION:La Maison du Parc\, Impasse du Parc, Sainte-Honorine-la Guillaume\, 61210 Sainte-Honorine-la-Guillaume\, France
URL:https://www.fest.fr/e/2400837
UID:2400837-1@fest.fr
END:VEVENT
END:VCALENDAR
