BEGIN:VCALENDAR
CALSCALE:GREGORIAN
VERSION:2.0
METHOD:PUBLISH 
X-WR-CALNAME:
BEGIN:VEVENT
DTSTART;TZID=Europe/Paris:20260419T170000
DTEND;TZID=Europe/Paris:20260419T180000
SUMMARY:Concert &quot;Musique sacrée&quot;
CATEGORIE:Concerts et Musique
LOCATION:Eglise Saint-Himère\, 3 rue de la mairie\, 68140 Gunsbach\, France
URL:https://www.fest.fr/e/2400724
UID:2400724-1@fest.fr
END:VEVENT
END:VCALENDAR
