BEGIN:VCALENDAR
CALSCALE:GREGORIAN
VERSION:2.0
METHOD:PUBLISH 
X-WR-CALNAME:
BEGIN:VEVENT
DTSTART;TZID=Europe/Paris:20260418T163000
DTEND;TZID=Europe/Paris:20260418T173000
SUMMARY:Conte, raconte du monde
CATEGORIE:Littérature
GEO:47.21097400000000;-1.56208300000000
LOCATION:Médiathèque Jacques Demy\, 24 quai la Fosse\, 44000 Nantes\, France
URL:https://www.fest.fr/e/2400638
UID:2400638-1@fest.fr
END:VEVENT
END:VCALENDAR
