BEGIN:VCALENDAR
CALSCALE:GREGORIAN
VERSION:2.0
METHOD:PUBLISH 
X-WR-CALNAME:
BEGIN:VEVENT
DTSTART;TZID=Europe/Paris:20261110T150000
DTEND;TZID=Europe/Paris:20261110T160000
SUMMARY:Les bouchées doubles
CATEGORIE:Marchés, Foires et Salons
GEO:43.73502700000000;4.22725800000000
LOCATION:Salle La Domitienne, Codognan (30)\, Salle La Domitienne\, 30920 Codognan\, France
URL:https://www.fest.fr/e/2400608
UID:2400608-1@fest.fr
END:VEVENT
END:VCALENDAR
