BEGIN:VCALENDAR
CALSCALE:GREGORIAN
VERSION:2.0
METHOD:PUBLISH 
X-WR-CALNAME:
BEGIN:VEVENT
DTSTART;TZID=Europe/Paris:20260415T103000
DTEND;TZID=Europe/Paris:20260415T113000
SUMMARY:Atelier Bien-être Seniors
CATEGORIE:Stages, Ateliers et Initiations
GEO:48.70206900000000;-0.36868900000000
LOCATION:Familles Rurales\, La Gare\, 61220 Briouze\, France
URL:https://www.fest.fr/e/2400509
UID:2400509-1@fest.fr
END:VEVENT
END:VCALENDAR
