BEGIN:VCALENDAR
CALSCALE:GREGORIAN
VERSION:2.0
METHOD:PUBLISH 
X-WR-CALNAME:
BEGIN:VEVENT
DTSTART;TZID=Europe/Paris:20260523T190000
DTEND;TZID=Europe/Paris:20260523T200000
SUMMARY:Une nuit sous le signe du médiéval fantasy
CATEGORIE:Expositions, Visites et Découvertes
GEO:45.76402100000000;4.82766600000000
LOCATION:Musée d'histoire de Lyon et Musée des arts de la marionnette\, 1 Place du Petit Collège\, 69005 Lyon 5e\, France
URL:https://www.fest.fr/e/2400452
UID:2400452-1@fest.fr
END:VEVENT
END:VCALENDAR
