BEGIN:VCALENDAR
CALSCALE:GREGORIAN
VERSION:2.0
METHOD:PUBLISH 
X-WR-CALNAME:
BEGIN:VEVENT
DTSTART;TZID=Europe/Paris:20260419T150000
DTEND;TZID=Europe/Paris:20260419T160000
SUMMARY:Retour à la case musée (+ 6 ans)
CATEGORIE:Expositions, Visites et Découvertes
GEO:47.21927800000000;-1.54708300000000
LOCATION:Musée d'arts de Nantes\, 10 Rue Georges Clemenceau\, 44000 Nantes\, France
URL:https://www.fest.fr/e/2400415
UID:2400415-1@fest.fr
END:VEVENT
END:VCALENDAR
