BEGIN:VCALENDAR
CALSCALE:GREGORIAN
VERSION:2.0
METHOD:PUBLISH 
X-WR-CALNAME:
BEGIN:VEVENT
DTSTART;TZID=Europe/Paris:20260411T200000
DTEND;TZID=Europe/Paris:20260411T210000
SUMMARY:Edouard Ferlet - Pianoïd & Vox
CATEGORIE:Concerts et musique
GEO:48.84980634288300;2.43575338003000
LOCATION:Espace Sorano\, 16, rue Charles Pathé\, 94300 Vincennes\, France
URL:https://www.fest.fr/e/2400273
UID:2400273-1@fest.fr
END:VEVENT
END:VCALENDAR
