BEGIN:VCALENDAR
CALSCALE:GREGORIAN
VERSION:2.0
METHOD:PUBLISH 
X-WR-CALNAME:
BEGIN:VEVENT
DTSTART;TZID=Europe/Paris:20260528T183000
DTEND;TZID=Europe/Paris:20260528T193000
SUMMARY:QUARTET ALCESTE > VARIÉTÉS
CATEGORIE:Concerts et Musique
GEO:48.76811800000000;1.94935200000000
LOCATION:Le Prisme 2 Allée du Théâtre\,  Elancourt\, 78990 Élancourt\, France
URL:https://www.fest.fr/e/2400237
UID:2400237-1@fest.fr
END:VEVENT
END:VCALENDAR
