BEGIN:VCALENDAR
CALSCALE:GREGORIAN
VERSION:2.0
METHOD:PUBLISH 
X-WR-CALNAME:
BEGIN:VEVENT
DTSTART;TZID=Europe/Paris:20260523T200000
DTEND;TZID=Europe/Paris:20260523T210000
SUMMARY:La fabuleuse bibliothèque de Monsieur Magissimus
CATEGORIE:Spectacles et Théâtre
GEO:42.61757000000000;3.00298500000000
LOCATION:Les Collections de Saint-Cyprien\, 4 rue Emile Zola\, 66750 Saint-Cyprien\, France
URL:https://www.fest.fr/e/2400191
UID:2400191-1@fest.fr
END:VEVENT
END:VCALENDAR
