BEGIN:VCALENDAR
CALSCALE:GREGORIAN
VERSION:2.0
METHOD:PUBLISH 
X-WR-CALNAME:
BEGIN:VEVENT
DTSTART;TZID=Europe/Paris:20260501T080000
DTEND;TZID=Europe/Paris:20260501T090000
SUMMARY:Exposition « Le cercle des méduses »
CATEGORIE:Expositions, Visites et Découvertes
GEO:48.80871500000000;-0.49679300000000
LOCATION:Médiathèque\, Rue Guy Velay, Athis-de-l'Orne\, 61430 Athis-Val-de-Rouvre\, France
URL:https://www.fest.fr/e/2400184
UID:2400184-1@fest.fr
END:VEVENT
END:VCALENDAR
