BEGIN:VCALENDAR
CALSCALE:GREGORIAN
VERSION:2.0
METHOD:PUBLISH 
X-WR-CALNAME:
BEGIN:VEVENT
DTSTART;TZID=Europe/Paris:20260619T090000
DTEND;TZID=Europe/Paris:20260619T100000
SUMMARY:Dynamique des systèmes
CATEGORIE:Conférences, Forums et Débats
GEO:48.11782400000000;-1.66886900000000
LOCATION:IGR-IAE Rennes\, 11 rue Jean Macé 35700\, 35708 Rennes\, France
URL:https://www.fest.fr/e/2400158
UID:2400158-1@fest.fr
END:VEVENT
BEGIN:VEVENT
DTSTART;TZID=Europe/Paris:20260620T090000
DTEND;TZID=Europe/Paris:20260620T100000
SUMMARY:Dynamique des systèmes
CATEGORIE:Conférences, Forums et Débats
GEO:48.11782400000000;-1.66886900000000
LOCATION:IGR-IAE Rennes\, 11 rue Jean Macé 35700\, 35708 Rennes\, France
URL:https://www.fest.fr/e/2400158
UID:2400158-2@fest.fr
END:VEVENT
END:VCALENDAR
