BEGIN:VCALENDAR
CALSCALE:GREGORIAN
VERSION:2.0
METHOD:PUBLISH 
X-WR-CALNAME:
BEGIN:VEVENT
DTSTART;TZID=Europe/Paris:20260425T203000
DTEND;TZID=Europe/Paris:20260425T213000
SUMMARY:ALIENOR du baroque à la musique pop !
CATEGORIE:Concerts et Musique
LOCATION:TEMPLE PROTESTANT\, 26 Rue Louis Pasteur\, 33220 Sainte-Foy-la-Grande\, France
URL:https://www.fest.fr/e/2399977
UID:2399977-1@fest.fr
END:VEVENT
END:VCALENDAR
