BEGIN:VCALENDAR
CALSCALE:GREGORIAN
VERSION:2.0
METHOD:PUBLISH 
X-WR-CALNAME:
BEGIN:VEVENT
DTSTART;TZID=Europe/Paris:20260621T150000
DTEND;TZID=Europe/Paris:20260621T160000
SUMMARY:CONCERT DEUX VENTS DEUX SCENES
CATEGORIE:Concerts et Musique
GEO:42.69308900000000;3.03564503000000
LOCATION:Place Méditerranée\, 66140 Canet-en-Roussillon\, France
URL:https://www.fest.fr/e/2399900
UID:2399900-1@fest.fr
END:VEVENT
END:VCALENDAR
