BEGIN:VCALENDAR
CALSCALE:GREGORIAN
VERSION:2.0
METHOD:PUBLISH 
X-WR-CALNAME:
BEGIN:VEVENT
DTSTART;TZID=Europe/Paris:20260411T190000
DTEND;TZID=Europe/Paris:20260411T200000
SUMMARY:Soirée Remember années 80-2000
CATEGORIE:Clubbing et soirées DJ
GEO:48.82614805233490;7.48365991964339
LOCATION:5 Place du Château\, 67330 Bouxwiller\, France
URL:https://www.fest.fr/e/2399880
UID:2399880-1@fest.fr
END:VEVENT
END:VCALENDAR
