BEGIN:VCALENDAR
CALSCALE:GREGORIAN
VERSION:2.0
METHOD:PUBLISH 
X-WR-CALNAME:
BEGIN:VEVENT
DTSTART;TZID=Europe/Paris:20260413T200000
DTEND;TZID=Europe/Paris:20260413T210000
SUMMARY:Cinéma - Jardin d'été
CATEGORIE:Spectacles et Théâtre
GEO:48.76776640000000;7.85251860000000
LOCATION:31 rue de Vire\, 67240 Bischwiller\, France
URL:https://www.fest.fr/e/2399866
UID:2399866-1@fest.fr
END:VEVENT
END:VCALENDAR
