BEGIN:VCALENDAR
CALSCALE:GREGORIAN
VERSION:2.0
METHOD:PUBLISH 
X-WR-CALNAME:
BEGIN:VEVENT
DTSTART;TZID=Europe/Paris:20260722T200000
DTEND;TZID=Europe/Paris:20260722T210000
SUMMARY:FNAP (Fest Noz à Ploumoguer)
CATEGORIE:Fest-Noz et Fest-Deiz
GEO:48.40319600000000;-4.72323900000000
LOCATION:Hangar de Messouflin
Messouflin\, 29810 Ploumoguer\, France
URL:https://www.fest.fr/e/2399821
UID:2399821-1@fest.fr
END:VEVENT
END:VCALENDAR
