BEGIN:VCALENDAR
CALSCALE:GREGORIAN
VERSION:2.0
METHOD:PUBLISH 
X-WR-CALNAME:
BEGIN:VEVENT
DTSTART;TZID=Europe/Paris:20260418T103000
DTEND;TZID=Europe/Paris:20260418T113000
SUMMARY:Lectures tout-petits à la médiathèque
CATEGORIE:Littérature
GEO:48.62877870000000;-3.98906140000000
LOCATION:Médiathèque
rue du 19 Mars 1962\, 29420 Plouénan\, France
URL:https://www.fest.fr/e/2399771
UID:2399771-1@fest.fr
END:VEVENT
END:VCALENDAR
