BEGIN:VCALENDAR
CALSCALE:GREGORIAN
VERSION:2.0
METHOD:PUBLISH 
X-WR-CALNAME:
BEGIN:VEVENT
DTSTART;TZID=Europe/Paris:20260502T150000
DTEND;TZID=Europe/Paris:20260502T160000
SUMMARY:Spectacle Pop-Up : La Princesse de Papier
CATEGORIE:Spectacles et Théâtre
GEO:48.65678000000000;-4.17172000000000
LOCATION:L'Atelier, médiathèque de Plouescat
Place du Dauphin\, 29430 Plouescat\, France
URL:https://www.fest.fr/e/2399712
UID:2399712-1@fest.fr
END:VEVENT
END:VCALENDAR
