BEGIN:VCALENDAR
CALSCALE:GREGORIAN
VERSION:2.0
METHOD:PUBLISH 
X-WR-CALNAME:
BEGIN:VEVENT
DTSTART;TZID=Europe/Paris:20260410T093000
DTEND;TZID=Europe/Paris:20260410T103000
SUMMARY:Randonnée mensuelle
CATEGORIE:Randonnées et balades
GEO:48.89719930000000;-0.19361980000000
LOCATION:Rue Georges Clemenceau
Salle du Pressoir - Domaine de la Fresnaye\, 14700 Falaise\, France
URL:https://www.fest.fr/e/2399612
UID:2399612-1@fest.fr
END:VEVENT
BEGIN:VEVENT
DTSTART;TZID=Europe/Paris:20260522T093000
DTEND;TZID=Europe/Paris:20260522T103000
SUMMARY:Randonnée mensuelle
CATEGORIE:Randonnées et balades
GEO:48.89719930000000;-0.19361980000000
LOCATION:Rue Georges Clemenceau
Salle du Pressoir - Domaine de la Fresnaye\, 14700 Falaise\, France
URL:https://www.fest.fr/e/2399612
UID:2399612-2@fest.fr
END:VEVENT
BEGIN:VEVENT
DTSTART;TZID=Europe/Paris:20260626T093000
DTEND;TZID=Europe/Paris:20260626T103000
SUMMARY:Randonnée mensuelle
CATEGORIE:Randonnées et balades
GEO:48.89719930000000;-0.19361980000000
LOCATION:Rue Georges Clemenceau
Salle du Pressoir - Domaine de la Fresnaye\, 14700 Falaise\, France
URL:https://www.fest.fr/e/2399612
UID:2399612-3@fest.fr
END:VEVENT
END:VCALENDAR
