BEGIN:VCALENDAR
CALSCALE:GREGORIAN
VERSION:2.0
METHOD:PUBLISH 
X-WR-CALNAME:
BEGIN:VEVENT
DTSTART;TZID=Europe/Paris:20260405T180000
DTEND;TZID=Europe/Paris:20260405T190000
SUMMARY:Open mic by gordie - scène ouverte
CATEGORIE:Concerts et Musique
GEO:48.81533480000000;-1.57234550000000
LOCATION:122 Rue de la Plage
Bar Le Rayon Vert\, 50380 Saint-Pair-sur-Mer\, France
URL:https://www.fest.fr/e/2399569
UID:2399569-1@fest.fr
END:VEVENT
END:VCALENDAR
