BEGIN:VCALENDAR
CALSCALE:GREGORIAN
VERSION:2.0
METHOD:PUBLISH 
X-WR-CALNAME:
BEGIN:VEVENT
DTSTART;TZID=Europe/Paris:20260605T211500
DTEND;TZID=Europe/Paris:20260605T221500
SUMMARY:Thomas Galliano - #LesCaribéennesDeMai20
CATEGORIE:Concerts et musique
GEO:48.86009543027600;2.34794413517500
LOCATION:Baiser Salé\, 58, Rue des Lombards\, 75001 Paris 1er\, France
URL:https://www.fest.fr/e/2399466
UID:2399466-1@fest.fr
END:VEVENT
BEGIN:VEVENT
DTSTART;TZID=Europe/Paris:20260605T191500
DTEND;TZID=Europe/Paris:20260605T201500
SUMMARY:Thomas Galliano - #LesCaribéennesDeMai20
CATEGORIE:Concerts et musique
GEO:48.86009543027600;2.34794413517500
LOCATION:Baiser Salé\, 58, Rue des Lombards\, 75001 Paris 1er\, France
URL:https://www.fest.fr/e/2399466
UID:2399466-2@fest.fr
END:VEVENT
END:VCALENDAR
