BEGIN:VCALENDAR
CALSCALE:GREGORIAN
VERSION:2.0
METHOD:PUBLISH 
X-WR-CALNAME:
BEGIN:VEVENT
DTSTART;TZID=Europe/Paris:20260328T100000
DTEND;TZID=Europe/Paris:20260328T110000
SUMMARY:Grand Déballage à la Ressourcerie
CATEGORIE:Brocantes, Bourses et Vide-Greniers
GEO:48.31992000000000;0.80555000000000
LOCATION:111 Rue Bretonnerie\, 28400 Nogent-le-Rotrou\, France
URL:https://www.fest.fr/e/2399426
UID:2399426-1@fest.fr
END:VEVENT
END:VCALENDAR
