BEGIN:VCALENDAR
CALSCALE:GREGORIAN
VERSION:2.0
METHOD:PUBLISH 
X-WR-CALNAME:
BEGIN:VEVENT
DTSTART;TZID=Europe/Paris:20260403T123456
DTEND;TZID=Europe/Paris:20260403T133456
SUMMARY:Spectacle de Jean Pierre Yvars
CATEGORIE:Spectacles et Théâtre
GEO:44.80542200000000;4.86800000000000
LOCATION:Epicerie perchée du haut Livron
Place de l'ancienne église du haut Livron\, 26250 Livron-sur-Drôme\, France
URL:https://www.fest.fr/e/2399339
UID:2399339-1@fest.fr
END:VEVENT
END:VCALENDAR
