BEGIN:VCALENDAR
CALSCALE:GREGORIAN
VERSION:2.0
METHOD:PUBLISH 
X-WR-CALNAME:
BEGIN:VEVENT
DTSTART;TZID=Europe/Paris:20260621T180000
DTEND;TZID=Europe/Paris:20260621T190000
SUMMARY:Fête de la Musique
CATEGORIE:Concerts et Musique
GEO:48.18599800000000;0.65320967000000
LOCATION:Centre ville\, 72400 La Ferté-Bernard\, France
URL:https://www.fest.fr/e/2399008
UID:2399008-1@fest.fr
END:VEVENT
END:VCALENDAR
