BEGIN:VCALENDAR
CALSCALE:GREGORIAN
VERSION:2.0
METHOD:PUBLISH 
X-WR-CALNAME:
BEGIN:VEVENT
DTSTART;TZID=Europe/Paris:20260425T143000
DTEND;TZID=Europe/Paris:20260425T153000
SUMMARY:Visite quiz "Fortifs !"
CATEGORIE:Expositions, Visites et Découvertes
GEO:50.72671200000000;1.61646600000000
LOCATION:Porte neuve\, rue de Lille\, 62200 Boulogne-sur-Mer\, France
URL:https://www.fest.fr/e/2398965
UID:2398965-1@fest.fr
END:VEVENT
BEGIN:VEVENT
DTSTART;TZID=Europe/Paris:20260426T143000
DTEND;TZID=Europe/Paris:20260426T153000
SUMMARY:Visite quiz "Fortifs !"
CATEGORIE:Expositions, Visites et Découvertes
GEO:50.72671200000000;1.61646600000000
LOCATION:Porte neuve\, rue de Lille\, 62200 Boulogne-sur-Mer\, France
URL:https://www.fest.fr/e/2398965
UID:2398965-2@fest.fr
END:VEVENT
END:VCALENDAR
