BEGIN:VCALENDAR
CALSCALE:GREGORIAN
VERSION:2.0
METHOD:PUBLISH 
X-WR-CALNAME:
BEGIN:VEVENT
DTSTART;TZID=Europe/Paris:20260425T203000
DTEND;TZID=Europe/Paris:20260425T213000
SUMMARY:BIM (Bénin International Musical) - Positive vodoum
CATEGORIE:Concerts et Musique
GEO:48.76399000000000;-3.57551000000000
LOCATION:9 Rue des Plages\, 22560 Trébeurden\, France
URL:https://www.fest.fr/e/2398944
UID:2398944-1@fest.fr
END:VEVENT
END:VCALENDAR
