BEGIN:VCALENDAR
CALSCALE:GREGORIAN
VERSION:2.0
METHOD:PUBLISH 
X-WR-CALNAME:
BEGIN:VEVENT
DTSTART;TZID=Europe/Paris:20260603T203000
DTEND;TZID=Europe/Paris:20260603T213000
SUMMARY:Mystères et merveilles des mondes de Saturne
CATEGORIE:Conférences, Forums et Débats
GEO:48.59949000000000;-3.81622000000000
LOCATION:Aérodrome Morlaix - Ploujean
CCI – Chambre de Commerce et d’Industrie\, 29600 Morlaix\, France
URL:https://www.fest.fr/e/2398929
UID:2398929-1@fest.fr
END:VEVENT
END:VCALENDAR
