BEGIN:VCALENDAR
CALSCALE:GREGORIAN
VERSION:2.0
METHOD:PUBLISH 
X-WR-CALNAME:
BEGIN:VEVENT
DTSTART;TZID=Europe/Paris:20260729T123456
DTEND;TZID=Europe/Paris:20260729T133456
SUMMARY:Récital piano à La Grange Musicale - La Bastide l'Evêque
CATEGORIE:Concerts et Musique
GEO:44.34079681000000;2.13369727000000
LOCATION:29 rue du porche
La Bastide l'Evêque\, 12200 Le Bas-Ségala\, France
URL:https://www.fest.fr/e/2398821
UID:2398821-1@fest.fr
END:VEVENT
END:VCALENDAR
