BEGIN:VCALENDAR
CALSCALE:GREGORIAN
VERSION:2.0
METHOD:PUBLISH 
X-WR-CALNAME:
BEGIN:VEVENT
DTSTART;TZID=Europe/Paris:20260429T150000
DTEND;TZID=Europe/Paris:20260429T160000
SUMMARY:Choses merveilleuses... d'avril
CATEGORIE:Stages, Ateliers et Initiations
GEO:49.20098830000000;-1.56280890000000
LOCATION:105 rue des Ecoles
Bibliothèque municipale de Créances\, 50710 Créances\, France
URL:https://www.fest.fr/e/2398775
UID:2398775-1@fest.fr
END:VEVENT
END:VCALENDAR
