BEGIN:VCALENDAR
CALSCALE:GREGORIAN
VERSION:2.0
METHOD:PUBLISH 
X-WR-CALNAME:
BEGIN:VEVENT
DTSTART;TZID=Europe/Paris:20260411T150000
DTEND;TZID=Europe/Paris:20260411T160000
SUMMARY:Café rencontre avec Armelle Guégant
CATEGORIE:Littérature
GEO:47.93283870000000;2.92761620000000
LOCATION:45 Place de la République\, 45220 Château-Renard\, France
URL:https://www.fest.fr/e/2398563
UID:2398563-1@fest.fr
END:VEVENT
END:VCALENDAR
