BEGIN:VCALENDAR
CALSCALE:GREGORIAN
VERSION:2.0
METHOD:PUBLISH 
X-WR-CALNAME:
BEGIN:VEVENT
DTSTART;TZID=Europe/Paris:20261126T200000
DTEND;TZID=Europe/Paris:20261126T210000
SUMMARY:Keren ANN
CATEGORIE:Concerts et Musique
GEO:45.94656700000000;-0.52364100000000
LOCATION:47 Boulevard Lair\, 17400 Saint-Jean-d'Angély\, France
URL:https://www.fest.fr/e/2398511
UID:2398511-1@fest.fr
END:VEVENT
END:VCALENDAR
