BEGIN:VCALENDAR
CALSCALE:GREGORIAN
VERSION:2.0
METHOD:PUBLISH 
X-WR-CALNAME:
BEGIN:VEVENT
DTSTART;TZID=Europe/Paris:20260328T090000
DTEND;TZID=Europe/Paris:20260328T100000
SUMMARY:RAID de Porte de DrômArdèche
CATEGORIE:Sports
GEO:45.17054200000000;4.88734300000000
LOCATION:1 Chem. du Lavoir
CIS\, 26240 Saint-Barthélemy-de-Vals\, France
URL:https://www.fest.fr/e/2398306
UID:2398306-1@fest.fr
END:VEVENT
END:VCALENDAR
